BEGIN:VCALENDAR
VERSION:2.0
PRODID:-//The Common Room - ECPv6.15.20//NONSGML v1.0//EN
CALSCALE:GREGORIAN
METHOD:PUBLISH
X-WR-CALNAME:The Common Room
X-ORIGINAL-URL:https://thecommonroom.org.uk
X-WR-CALDESC:Events for The Common Room
REFRESH-INTERVAL;VALUE=DURATION:PT1H
X-Robots-Tag:noindex
X-PUBLISHED-TTL:PT1H
BEGIN:VTIMEZONE
TZID:Europe/London
BEGIN:DAYLIGHT
TZOFFSETFROM:+0000
TZOFFSETTO:+0100
TZNAME:BST
DTSTART:20250330T010000
END:DAYLIGHT
BEGIN:STANDARD
TZOFFSETFROM:+0100
TZOFFSETTO:+0000
TZNAME:GMT
DTSTART:20251026T010000
END:STANDARD
BEGIN:DAYLIGHT
TZOFFSETFROM:+0000
TZOFFSETTO:+0100
TZNAME:BST
DTSTART:20260329T010000
END:DAYLIGHT
BEGIN:STANDARD
TZOFFSETFROM:+0100
TZOFFSETTO:+0000
TZNAME:GMT
DTSTART:20261025T010000
END:STANDARD
BEGIN:DAYLIGHT
TZOFFSETFROM:+0000
TZOFFSETTO:+0100
TZNAME:BST
DTSTART:20270328T010000
END:DAYLIGHT
BEGIN:STANDARD
TZOFFSETFROM:+0100
TZOFFSETTO:+0000
TZNAME:GMT
DTSTART:20271031T010000
END:STANDARD
END:VTIMEZONE
BEGIN:VEVENT
DTSTART;TZID=Europe/London:20260501T190000
DTEND;TZID=Europe/London:20260501T213000
DTSTAMP:20260424T192600
CREATED:20260418T142404Z
LAST-MODIFIED:20260418T142404Z
UID:8971-1777662000-1777671000@thecommonroom.org.uk
SUMMARY:Whisky Tasting - An Evening With... Justine Hazlehurst
DESCRIPTION:Justine is the founder of Kask Whisky – a tasting events and tour company. She is also the co-founder and co-director of the annual Fife Whisky Festival. \nHer passion and enthusiasm for whisky has led to her being selected as a judge for a number of whisky awards including the World Whiskies Awards and Icons of Whisky Awards as well as a number of tasting panels. Her knowledge of Scotch whisky history has led her to work with several distilleries\, organisations and publications delving into the heritage of brands.\nJustine will be joining us  on Friday May 1st at the The Common Room to talk about her recent book “Opening The Case: The Affairs of Pattisons’ Whisky” with six drams chosen specifically to accompany. Including… \nJG Thompson Blended Grain 1972 Batch 2\nCameron Bridge Cadenhead 31 yr Single Cask\nOban Distillery only Batch 3\nAultmore 14 Single Cask Rare Find\nBenrinnes Single Malts of Scotland Single Cask PX 15 yr\nSMWS 1.288 What the bells of St. Clemence say. \nAnd possibly even an old school treat from Leith itself!  \nAttendees will also have the opportunity to pre-order a copy of “Opening The Case: The Affairs of Pattisons’ Whisky” for a discounted price of 14.99 via this link. Pre-order deadline is Sunday 5th April. \nWe’ll see you there!
URL:https://thecommonroom.org.uk/event/whisky-tasting-an-evening-with-justine-hazlehurst/
ATTACH;FMTTYPE=image/jpeg:https://thecommonroom.org.uk/wp-content/uploads/2026/04/Justine-Hazlehurst-Samll-EVENT-PAGE.jpg
END:VEVENT
BEGIN:VEVENT
DTSTART;TZID=Europe/London:20260509T180000
DTEND;TZID=Europe/London:20260509T223000
DTSTAMP:20260424T192600
CREATED:20260418T145943Z
LAST-MODIFIED:20260418T153406Z
UID:8974-1778349600-1778365800@thecommonroom.org.uk
SUMMARY:The Late Shows 2026: Beneath the Surface
DESCRIPTION:We are thrilled to once again to be part of the The Late Shows. For 2026\, step inside our spectacular heritage building and immerse yourself in a bespoke mining soundscape that brings our region’s history to life. In an exciting partnership with Newcastle University\, we are hosting a striking architectural installation that will take you on a journey into the lost future of coal mining\, allowing you to discover our shared industrial heritage in a completely new way. \nWhile you are exploring\, be sure to get hands-on and enjoy some LEGO®. Finally\, round off your evening downstairs in our 5|Quarter café bar\, where you can grab a drink and join us for a brilliant sing-along! \nWe are proudly dog-friendly\, so please feel free to bring your four-legged companions along on your culture crawl. We cannot wait to welcome you! \nLast entry 10:30pm.
URL:https://thecommonroom.org.uk/event/the-late-shows-2026-beneath-the-surface/
LOCATION:The Common Room\, Westgate Road\, Newcastle upon Tyne\, NE1 1SE\, United Kingdom
ATTACH;FMTTYPE=image/jpeg:https://thecommonroom.org.uk/wp-content/uploads/2026/04/LAteShowsEVENT-2026.jpg
END:VEVENT
BEGIN:VEVENT
DTSTART;TZID=Europe/London:20261031T193000
DTEND;TZID=Europe/London:20261031T223000
DTSTAMP:20260424T192600
CREATED:20260422T105131Z
LAST-MODIFIED:20260422T105131Z
UID:8983-1793475000-1793485800@thecommonroom.org.uk
SUMMARY:Briana Corrigan (ON SALE 10AM 29.4.2026)
DESCRIPTION:The Common Room & Hapless Museum Worker Gigs present…Briana Corrigan\, BRIT-winning former vocalist of The Beautiful South. \nBriana Corrigan (The Beautiful South)\n“One of the most distinctive voices in pop” – Time Out \nDon’t miss this rare opportunity to experience an intimate\, heart-warming\, and joyous evening of story and song with Briana Corrigan\, the iconic former vocalist of The Beautiful South. \nReturning to the stage following a 10-year hiatus\, Briana has already completed five hugely successful\, largely sold-out tours across the UK and Ireland\, and arrives with a brand-new album in the pipeline. \nAbout the Artist\nBorn in Belfast\, Briana’s unforgettable voice is best known for delivering The Beautiful South’s most successful single: the chart-topping\, Brit Award-winning No. 1 hit\, A Little Time. Her unique vocal styling\, combined with Paul Heaton’s brilliantly acerbic lyrics\, created an enduring anthem to broken love. \nBeyond her band years\, Briana has established herself as a formidable songwriter in her own right. She has released two critically acclaimed solo albums\, drawing widespread praise from the music press: \n“Her forte… chest-hugging\, breast-beating balladry of the highest calibre.” – Q Magazine\n“A songwriter of wit and elegance.” – Hot Press\n“A revelation! It’s like listening to someone sing you a story. The rain outside is drifting along the glass and this is a good soundtrack to the tale of its falling.” – Melody Maker\nWhat to Expect\nDescribed by VOX as a voice that “could melt icebergs at 50 paces”\, this is a unique chance to hear her stupendous vocals up close and personal. \nBriana will lead the evening on vocals and guitar\, backed by a beautifully stripped-back band featuring an additional guitarist and cellist. The setlist will pack an emotional punch\, weaving together: \n– Classic hits from The Beautiful South\n– Her own beautifully crafted solo material\n– Unique\, fresh takes on traditional favourites \n“Corrigan’s vocals still sparkle with gold dust.” – The Irish Independent \nTICKETS ON SALE 10AM\, 29TH APRIL\, 2026.
URL:https://thecommonroom.org.uk/event/briana-corrigan-on-sale-10am-29-4-2026/
LOCATION:The Common Room\, Westgate Road\, Newcastle upon Tyne\, NE1 1SE\, United Kingdom
ATTACH;FMTTYPE=image/jpeg:https://thecommonroom.org.uk/wp-content/uploads/2026/04/Briana-Corrigan_EVENT.jpg
END:VEVENT
END:VCALENDAR